BEGIN:VCALENDAR
VERSION:2.0
PRODID:gruene-michendorf.de
METHOD:PUBLISH
BEGIN:VTIMEZONE
TZID:Europe/Berlin
X-LIC-LOCATION:Europe/Berlin
BEGIN:DAYLIGHT
TZOFFSETFROM:+0100
TZOFFSETTO:+0200
TZNAME:CEST
DTSTART:19700329T020000
RRULE:FREQ=YEARLY;INTERVAL=1;BYDAY=-1SU;BYMONTH=3
END:DAYLIGHT
BEGIN:STANDARD
TZOFFSETFROM:+0200
TZOFFSETTO:+0100
TZNAME:CET
DTSTART:19701025T030000
RRULE:FREQ=YEARLY;INTERVAL=1;BYDAY=-1SU;BYMONTH=10
END:STANDARD
END:VTIMEZONE
BEGIN:VEVENT
UID:65115622673965ca8c6403333a6c8fbf@gruene-michendorf.de
URL;VALUE=URI:https://gruene-michendorf.de/termine/gruener-stammtisch-2/
LOCATION:Restaurant India Palace, Potsdamer Straße 42, 14552 Michendorf
SUMMARY:Grüner Stammtisch
DESCRIPTION;ALTREP="data:text/html,%0A%3Cp%3EUnsere%20Anstrengungen%20im%
 20Wahlkampf%20haben%20sich%20gelohnt%20und%20wir%20haben%20allen%20Grund%
 2C%20weiterhin%20sichtbare%20Gr%C3%BCne%20Politik%20vor%20Ort%20zu%20gest
 alten.%3C%2Fp%3E%0A%0A%0A%0A%3Cp%3ENach%20den%20langen%20Monaten%20des%20
 Plakatierens%2C%20Flyerns%2C%20Organisierens%20haben%20wir%20nun%20auch%2
 0wieder%20mehr%20Zeit%20f%C3%BCr%20Inhalte.%3C%2Fp%3E%0A%0A%0A%0A%3Cp%3EE
 ine%20erste%20M%C3%B6glichkeit%20daf%C3%BCr%20bietet%20sich%20in%20der%20
 n%C3%A4chsten%20Woche%3A%3C%2Fp%3E%0A%0A%0A%0A%3Cp%3EWie%20immer%20am%20e
 rsten%20Dienstag%20des%20Monats%20laden%20wir%20ein%20zum%26nbsp%3B%3Cstr
 ong%3EGR%C3%9CNEN%20STAMMTISCH%3C%2Fstrong%3E%3Cstrong%3E%21%3C%2Fstrong%
 3E%3C%2Fp%3E%0A%0A%0A%0A%3Cp%3E%3Cstrong%3EAm%20n%C3%A4chsten%20Dienstag%
 2C%2004.%20M%C3%A4rz%2C%20ab%2019.30%20Uhr%3C%2Fstrong%3E%3Cstrong%3E.%3C
 %2Fstrong%3E%3Cstrong%3E%3C%2Fstrong%3E%3C%2Fp%3E%0A%0A%0A%0A%3Cp%3E%3Cst
 rong%3EAchtung%20Ortswechsel%3A%20Diesmal%20wieder%20im%20Restaurant%C2%A
 0%3C%2Fstrong%3E%3Cstrong%3EIndia%20Palace%20in%20Michendorf%3C%2Fstrong%
 3E%3C%2Fp%3E%0A%0A%0A%0A%3Cp%3EBringt%20Fragen%20und%20Ideen%20mit%2C%20F
 reunde%20und%20Nachbar%2Ainnen.%3C%2Fp%3E%0A%0A%0A%0A%3Cp%3EHerzliche%20G
 r%C3%BC%C3%9Fe%20%E2%80%93%20und%20bis%20zum%20n%C3%A4chsten%20Dienstag%2
 1%3C%2Fp%3E%0A%0A%0A%0A%3Cp%3E%3C%2Fp%3E%0A":Unsere Anstrengungen im Wahl
 kampf haben sich gelohnt und wir haben allen Grund\, weiterhin sichtbare 
 Grüne Politik vor Ort zu gestalten.\n\nNach den langen Monaten des Plaka
 tierens\, Flyerns\, Organisierens haben wir nun auch wieder mehr Zeit fü
 r Inhalte.\n\nEine erste Möglichkeit dafür bietet sich in der nächsten
  Woche:\n\nWie immer am ersten Dienstag des Monats laden wir ein zum GR
 ÜNEN STAMMTISCH!\n\nAm nächsten Dienstag\, 04. März\, ab 19.30 Uhr.\n\
 nAchtung Ortswechsel: Diesmal wieder im Restaurant India Palace in Miche
 ndorf\n\nBringt Fragen und Ideen mit\, Freunde und Nachbar*innen.\n\nHerz
 liche Grüße – und bis zum nächsten Dienstag!
CLASS:PUBLIC
DTSTART;TZID=Europe/Berlin:20250304T190000
DTEND;TZID=Europe/Berlin:20250304T220000
DTSTAMP:20260424T065447
END:VEVENT
END:VCALENDAR